BEGIN:VCALENDAR
VERSION:2.0
PRODID:-//Rupes tools - ECPv6.15.20//NONSGML v1.0//EN
CALSCALE:GREGORIAN
METHOD:PUBLISH
X-WR-CALNAME:Rupes tools
X-ORIGINAL-URL:https://www.rupes.com/it/
X-WR-CALDESC:Eventi per Rupes tools
REFRESH-INTERVAL;VALUE=DURATION:PT1H
X-Robots-Tag:noindex
X-PUBLISHED-TTL:PT1H
BEGIN:VTIMEZONE
TZID:Europe/Rome
BEGIN:DAYLIGHT
TZOFFSETFROM:+0100
TZOFFSETTO:+0200
TZNAME:CEST
DTSTART:20190331T010000
END:DAYLIGHT
BEGIN:STANDARD
TZOFFSETFROM:+0200
TZOFFSETTO:+0100
TZNAME:CET
DTSTART:20191027T010000
END:STANDARD
BEGIN:DAYLIGHT
TZOFFSETFROM:+0100
TZOFFSETTO:+0200
TZNAME:CEST
DTSTART:20200329T010000
END:DAYLIGHT
BEGIN:STANDARD
TZOFFSETFROM:+0200
TZOFFSETTO:+0100
TZNAME:CET
DTSTART:20201025T010000
END:STANDARD
BEGIN:DAYLIGHT
TZOFFSETFROM:+0100
TZOFFSETTO:+0200
TZNAME:CEST
DTSTART:20210328T010000
END:DAYLIGHT
BEGIN:STANDARD
TZOFFSETFROM:+0200
TZOFFSETTO:+0100
TZNAME:CET
DTSTART:20211031T010000
END:STANDARD
END:VTIMEZONE
BEGIN:VEVENT
DTSTART;TZID=Europe/Rome:20200513T180000
DTEND;TZID=Europe/Rome:20200513T190000
DTSTAMP:20260423T201834
CREATED:20200504T151710Z
LAST-MODIFIED:20200504T151745Z
UID:1001392334-1589392800-1589396400@www.rupes.com
SUMMARY:C.O.R.E. Series Webinar | "Maledette Schivature!"
DESCRIPTION:Continua la serie di incontri di RUPES sulle tecniche di rimozione dei difetti di verniciatura. \nIn questo Webinar\, Fabrizio Gagliardi (Training Manager RUPES)\, Carlo Genoli e Ginevra Canu (Application Engineer RUPES) e Mario Mastrolia (Technical Sales Manager RUPES) parleranno di alcuni dei più diffusi problemi di verniciatura e delle loro possibili soluzioni (schivature\, colatura\, rimarcatura del fondo\, sbiancamento\, overspray\, fori di spillo). \nIscriviti al seminario online per poter interagire durante la presentazione ponendo domande o semplicemente dando la tua opinione. REGISTRATI ORA: https://bit.ly/2KZey0R \nQualora non riuscissi partecipare alla sessione live\, dopo la registrazione sarà possibile guardare il Webinar “on-demand” accedendo dal link ricevuto via email. Il Webinar verrà anche trasmesso in diretta sulla pagina Facebook di RUPES.
URL:https://www.rupes.com/it/event/c-o-r-e-series-webinar-maledette-schivature/
LOCATION:Online
CATEGORIES:Webinars
ATTACH;FMTTYPE=image/jpeg:https://www.rupes.com/wp-content/uploads/2020/05/MarkIII-Webinar-Schivature.jpg
END:VEVENT
BEGIN:VEVENT
DTSTART;TZID=Europe/Rome:20200429T150000
DTEND;TZID=Europe/Rome:20200429T160000
DTSTAMP:20260423T201834
CREATED:20200417T150911Z
LAST-MODIFIED:20200424T135202Z
UID:1001392124-1588172400-1588176000@www.rupes.com
SUMMARY:C.O.R.E. Series Webinar | "Maledetti Sporchini!"
DESCRIPTION:WEBINAR in italiano: “Maledetti Sporchini!”\nMercoledì 29 aprile alle ore 15:00 \nIn questo Webinar\, Fabrizio Gagliardi (Training Manager RUPES)\, Carlo Genoli e Ginevra Canu (Application Engineer RUPES) iniziano una serie di incontri in cui discuteranno le tecniche più comuni per rimuovere i difetti di verniciatura in carrozzeria e nella lavorazione del legno. Il primo di questi incontri sarà dedicato agli sporchini\, analizzando pro e contro delle varie tecniche ad oggi disponibili. \nIscriviti al seminario online per poter interagire durante la presentazione ponendo domande o semplicemente dando la tua opinione. \nREGISTRATI ORA: https://bit.ly/2K64MJV \nQualora non riuscissi a partecipare alla sessione live\, dopo la registrazione sarà possibile guardare il Webinar “on-demand” accedendo dal link ricevuto via email. Inoltre\, il Webinar verrà anche trasmesso in diretta su Facebook se non desideri proporre domande ai presentatori.
URL:https://www.rupes.com/it/event/c-o-r-e-series-webinar-maledetti-sporchini/
LOCATION:Online
CATEGORIES:Webinars
ATTACH;FMTTYPE=image/jpeg:https://www.rupes.com/wp-content/uploads/2020/04/banner-webinar-sporchini.jpg
END:VEVENT
END:VCALENDAR